BEGIN:VCALENDAR
VERSION:2.0
PRODID:icalendar-ruby
CALSCALE:GREGORIAN
BEGIN:VEVENT
DTSTAMP:20210122T065742Z
UID:295db245-69f9-48f4-ae8f-36730511153b
DTSTART;VALUE=DATE:20190825
DESCRIPTION:Property ID# 458057\, Locatoin: On site\, Time: 2:00PM
SUMMARY:Auction for 
END:VEVENT
END:VCALENDAR
