BEGIN:VCALENDAR
VERSION:2.0
PRODID:icalendar-ruby
CALSCALE:GREGORIAN
BEGIN:VEVENT
DTSTAMP:20210122T065744Z
UID:16bd062b-22fa-4069-958e-e196ce178830
DTSTART;VALUE=DATE:20190818
DESCRIPTION:Property ID# 458092\, Time: 3:00PM
SUMMARY:Auction for 
END:VEVENT
END:VCALENDAR
