BEGIN:VCALENDAR
VERSION:2.0
PRODID:icalendar-ruby
CALSCALE:GREGORIAN
BEGIN:VEVENT
DTSTAMP:20210122T070110Z
UID:e70c61ce-3330-4b5f-b2b2-9da9ff44e9d1
DTSTART;VALUE=DATE:20190928
DESCRIPTION:Property ID# 458980\, Locatoin: On Site (unless sold prior)\, T
 ime: 3:00PM
SUMMARY:Auction for 
END:VEVENT
END:VCALENDAR
