BEGIN:VCALENDAR
VERSION:2.0
PRODID:icalendar-ruby
CALSCALE:GREGORIAN
BEGIN:VEVENT
DTSTAMP:20210122T065738Z
UID:9e95c10f-712f-42b5-a415-a7a110e14547
DTSTART;VALUE=DATE:20190922
DESCRIPTION:Property ID# 460766\, Locatoin: On site\, Time: 2:00PM
SUMMARY:Auction for 
END:VEVENT
END:VCALENDAR
