BEGIN:VCALENDAR
VERSION:2.0
PRODID:icalendar-ruby
CALSCALE:GREGORIAN
BEGIN:VEVENT
DTSTAMP:20210122T065735Z
UID:955f7b73-76b7-414f-87c8-55fda118205b
DTSTART;VALUE=DATE:20190929
DESCRIPTION:Property ID# 461185\, Time: 12:00PM
SUMMARY:Auction for 
END:VEVENT
END:VCALENDAR
