BEGIN:VCALENDAR
VERSION:2.0
PRODID:icalendar-ruby
CALSCALE:GREGORIAN
BEGIN:VEVENT
DTSTAMP:20210122T070124Z
UID:2a8e21c0-55c2-4472-b3ee-2b6cb1c6dd50
DTSTART;VALUE=DATE:20191010
DESCRIPTION:Property ID# 462006\, Time: 6:30PM
SUMMARY:Auction for 
END:VEVENT
END:VCALENDAR
