BEGIN:VCALENDAR
VERSION:2.0
PRODID:icalendar-ruby
CALSCALE:GREGORIAN
BEGIN:VEVENT
DTSTAMP:20210122T065651Z
UID:2a020961-d46a-448c-a206-53a32ee6ff2d
DTSTART;VALUE=DATE:20191114
DESCRIPTION:Property ID# 463397\, Time: 4:00PM
SUMMARY:Auction for 
END:VEVENT
END:VCALENDAR
