BEGIN:VCALENDAR
VERSION:2.0
PRODID:icalendar-ruby
CALSCALE:GREGORIAN
BEGIN:VEVENT
DTSTAMP:20210122T065733Z
UID:fe6015be-f2eb-4665-9e01-29d5f5e8274e
DTSTART;VALUE=DATE:20191128
DESCRIPTION:Property ID# 466043\, Time: 12:00PM
SUMMARY:Auction for 
END:VEVENT
END:VCALENDAR
