BEGIN:VCALENDAR
VERSION:2.0
PRODID:icalendar-ruby
CALSCALE:GREGORIAN
BEGIN:VEVENT
DTSTAMP:20210122T065650Z
UID:f4eace4b-78e6-408e-8f18-4dbd902afdc9
DTSTART;VALUE=DATE:20191211
DESCRIPTION:Property ID# 467143\, Time: 4:00PM
SUMMARY:Auction for 
END:VEVENT
END:VCALENDAR
