BEGIN:VCALENDAR
VERSION:2.0
PRODID:icalendar-ruby
CALSCALE:GREGORIAN
BEGIN:VEVENT
DTSTAMP:20210122T065658Z
UID:216574a6-7cdf-4319-a58e-b6de78a9d84f
DTSTART;VALUE=DATE:20200209
DESCRIPTION:Property ID# 469344\, Locatoin: On site \, Time: 12:00PM
SUMMARY:Auction for 
END:VEVENT
END:VCALENDAR
