BEGIN:VCALENDAR
VERSION:2.0
PRODID:icalendar-ruby
CALSCALE:GREGORIAN
BEGIN:VEVENT
DTSTAMP:20210122T065700Z
UID:22ba7a28-e7f5-4076-89dc-7ba2471cd664
DTSTART;VALUE=DATE:20200205
DESCRIPTION:Property ID# 469436\, Locatoin: In rooms\, Time: 12:00PM
SUMMARY:Auction for 
END:VEVENT
END:VCALENDAR
