BEGIN:VCALENDAR
VERSION:2.0
PRODID:icalendar-ruby
CALSCALE:GREGORIAN
BEGIN:VEVENT
DTSTAMP:20210122T065730Z
UID:c19a6be3-af50-4af9-8add-df4a46a5ebc0
DTSTART;VALUE=DATE:20200301
DESCRIPTION:Property ID# 471131\, Time: 1:00PM
SUMMARY:Auction for 
END:VEVENT
END:VCALENDAR
