BEGIN:VCALENDAR
VERSION:2.0
PRODID:icalendar-ruby
CALSCALE:GREGORIAN
BEGIN:VEVENT
DTSTAMP:20210122T065725Z
UID:d9795df8-0f9e-45a7-b94d-f40dcea03fc1
DTSTART;VALUE=DATE:20200223
DESCRIPTION:Property ID# 471789\, Time: 4:00PM
SUMMARY:Auction for 
END:VEVENT
END:VCALENDAR
