BEGIN:VCALENDAR
VERSION:2.0
PRODID:icalendar-ruby
CALSCALE:GREGORIAN
BEGIN:VEVENT
DTSTAMP:20210122T070115Z
UID:ae3cf736-999f-4c8e-a63e-d420ed0c9338
DTSTART;VALUE=DATE:20200326
DESCRIPTION:Property ID# 473657\, Time: 6:30PM
SUMMARY:Auction for 
END:VEVENT
END:VCALENDAR
