BEGIN:VCALENDAR
VERSION:2.0
PRODID:icalendar-ruby
CALSCALE:GREGORIAN
BEGIN:VEVENT
DTSTAMP:20210122T065723Z
UID:727bafc8-a70a-4f5f-8ea3-d3476b720c38
DTSTART;VALUE=DATE:20200315
DESCRIPTION:Property ID# 473802\, Time: 3:00PM
SUMMARY:Auction for 
END:VEVENT
END:VCALENDAR
