BEGIN:VCALENDAR
VERSION:2.0
PRODID:icalendar-ruby
CALSCALE:GREGORIAN
BEGIN:VEVENT
DTSTAMP:20210122T070117Z
UID:814ace27-3b36-43b1-b1aa-3ef4f4b5f2a7
DTSTART;VALUE=DATE:20200319
DESCRIPTION:Property ID# 474064\, Time: 6:30PM
SUMMARY:Auction for 
END:VEVENT
END:VCALENDAR
