BEGIN:VCALENDAR
VERSION:2.0
PRODID:icalendar-ruby
CALSCALE:GREGORIAN
BEGIN:VEVENT
DTSTAMP:20210122T065722Z
UID:d36d618a-516c-41f8-9893-d8f427decefe
DTSTART;VALUE=DATE:20200628
DESCRIPTION:Property ID# 482249\, Time: 2:00PM
SUMMARY:Auction for 
END:VEVENT
END:VCALENDAR
