BEGIN:VCALENDAR
VERSION:2.0
PRODID:icalendar-ruby
CALSCALE:GREGORIAN
BEGIN:VEVENT
DTSTAMP:20210122T065656Z
UID:617b9bed-fa65-4945-9e9d-efebf72beeb2
DTSTART;VALUE=DATE:20200716
DESCRIPTION:Property ID# 483165\, Locatoin: In rooms\, Time: 6:30PM
SUMMARY:Auction for 
END:VEVENT
END:VCALENDAR
