BEGIN:VCALENDAR
VERSION:2.0
PRODID:icalendar-ruby
CALSCALE:GREGORIAN
BEGIN:VEVENT
DTSTAMP:20210122T065655Z
UID:dbc0baef-42bc-4244-8cb6-dc5f9cfb227e
DTSTART;VALUE=DATE:20200927
DESCRIPTION:Property ID# 488687\, Locatoin: On Site\, Time: 5:00PM
SUMMARY:Auction for 
END:VEVENT
END:VCALENDAR
