BEGIN:VCALENDAR
VERSION:2.0
PRODID:icalendar-ruby
CALSCALE:GREGORIAN
BEGIN:VEVENT
DTSTAMP:20210122T065712Z
UID:9b3a131d-df36-41d6-bdbb-7317e8c7719d
DTSTART;VALUE=DATE:20200920
DESCRIPTION:Property ID# 488997\, Locatoin: On Site\, Time: 4:30PM
SUMMARY:Auction for 
END:VEVENT
END:VCALENDAR
