BEGIN:VCALENDAR
VERSION:2.0
PRODID:icalendar-ruby
CALSCALE:GREGORIAN
BEGIN:VEVENT
DTSTAMP:20210122T065639Z
UID:abe3564c-2e7c-4167-8deb-2c9aa1ec473b
DTSTART;VALUE=DATE:20201014
DESCRIPTION:Property ID# 489532\, Time: 4:00PM
SUMMARY:Auction for 
END:VEVENT
END:VCALENDAR
