BEGIN:VCALENDAR
VERSION:2.0
PRODID:icalendar-ruby
CALSCALE:GREGORIAN
BEGIN:VEVENT
DTSTAMP:20210122T070108Z
UID:a6052da2-65c6-4677-91ca-cb288c56fad2
DTSTART;VALUE=DATE:20201010
DESCRIPTION:Property ID# 489837\, Locatoin: on site (if not sold prior)\, T
 ime: 3:00PM
SUMMARY:Auction for 
END:VEVENT
END:VCALENDAR
