BEGIN:VCALENDAR
VERSION:2.0
PRODID:icalendar-ruby
CALSCALE:GREGORIAN
BEGIN:VEVENT
DTSTAMP:20210122T065637Z
UID:73af9f82-d2f0-46bf-a3ec-698521d52698
DTSTART;VALUE=DATE:20201015
DESCRIPTION:Property ID# 490186\, Locatoin: Omaha- Unless Sold Prior\, Time
 : 4:00PM
SUMMARY:Auction for 
END:VEVENT
END:VCALENDAR
