BEGIN:VCALENDAR
VERSION:2.0
PRODID:icalendar-ruby
CALSCALE:GREGORIAN
BEGIN:VEVENT
DTSTAMP:20210122T065711Z
UID:5371c436-f7c2-4d97-88fb-89db48bdbb5c
DTSTART;VALUE=DATE:20201205
DESCRIPTION:Property ID# 491754\, Locatoin: On Site\, Time: 2:30PM
SUMMARY:Auction for 
END:VEVENT
END:VCALENDAR
