BEGIN:VCALENDAR
VERSION:2.0
PRODID:icalendar-ruby
CALSCALE:GREGORIAN
BEGIN:VEVENT
DTSTAMP:20210122T065636Z
UID:a486ff10-47c0-4592-91f4-4b038a86695c
DTSTART;VALUE=DATE:20201104
DESCRIPTION:Property ID# 493138\, Time: 12:00PM
SUMMARY:Auction for 
END:VEVENT
END:VCALENDAR
