BEGIN:VCALENDAR
VERSION:2.0
PRODID:icalendar-ruby
CALSCALE:GREGORIAN
BEGIN:VEVENT
DTSTAMP:20210122T070106Z
UID:f070161e-f2e4-418f-a17d-c093d48fb15c
DTSTART;VALUE=DATE:20201121
DESCRIPTION:Property ID# 493282\, Locatoin: On Site (unless sold prior)\, T
 ime: 3:00PM
SUMMARY:Auction for 
END:VEVENT
END:VCALENDAR
