BEGIN:VCALENDAR
VERSION:2.0
PRODID:icalendar-ruby
CALSCALE:GREGORIAN
BEGIN:VEVENT
DTSTAMP:20210122T065646Z
UID:80890804-03a1-43f7-b13e-a0e32a859dfe
DTSTART;VALUE=DATE:20201125
DESCRIPTION:Property ID# 493284\, Locatoin: The Sapphire Room\, upstairs\, 
 Ponsonby Central.\, Time: 6:30PM
SUMMARY:Auction for 
END:VEVENT
END:VCALENDAR
