BEGIN:VCALENDAR
VERSION:2.0
PRODID:icalendar-ruby
CALSCALE:GREGORIAN
BEGIN:VEVENT
DTSTAMP:20210122T065719Z
UID:7a7e0cc9-8b20-4415-91e3-d23ae8c01ffa
DTSTART;VALUE=DATE:20201115
DESCRIPTION:Property ID# 493609\, Time: 1:00PM
SUMMARY:Auction for 
END:VEVENT
END:VCALENDAR
