BEGIN:VCALENDAR
VERSION:2.0
PRODID:icalendar-ruby
CALSCALE:GREGORIAN
BEGIN:VEVENT
DTSTAMP:20210122T065634Z
UID:878bacae-056d-4529-897e-cddf95e4c961
DTSTART;VALUE=DATE:20201212
DESCRIPTION:Property ID# 495606\, Time: 4:30PM
SUMMARY:Auction for 
END:VEVENT
END:VCALENDAR
