BEGIN:VCALENDAR
VERSION:2.0
PRODID:icalendar-ruby
CALSCALE:GREGORIAN
BEGIN:VEVENT
DTSTAMP:20210122T065643Z
UID:495ed2b3-0104-44c8-9f6e-8db63adfbf51
DTSTART;VALUE=DATE:20201216
DESCRIPTION:Property ID# 496909\, Locatoin: On Site\, Time: 6:00PM
SUMMARY:Auction for 
END:VEVENT
END:VCALENDAR
