BEGIN:VCALENDAR
VERSION:2.0
PRODID:icalendar-ruby
CALSCALE:GREGORIAN
BEGIN:VEVENT
DTSTAMP:20210122T064535Z
UID:b4c1d973-b1ef-4c08-a0d0-f66fca378e49
DTSTART;VALUE=DATE:20201223
DESCRIPTION:Property ID# 497964\, Time: 3:00AM
SUMMARY:Auction for 60 James Paige Lane
END:VEVENT
END:VCALENDAR
