BEGIN:VCALENDAR
VERSION:2.0
PRODID:icalendar-ruby
CALSCALE:GREGORIAN
BEGIN:VEVENT
DTSTAMP:20210122T064528Z
UID:ce4be50e-3aa4-4b95-8ddc-6574c53a99ad
DTSTART;VALUE=DATE:20210214
DESCRIPTION:Property ID# 498317\, Locatoin: On Site(Unless Sold Prior)\, Ti
 me: 2:00PM
SUMMARY:Auction for 199 Motutara Road
END:VEVENT
END:VCALENDAR
