BEGIN:VCALENDAR
VERSION:2.0
PRODID:icalendar-ruby
CALSCALE:GREGORIAN
BEGIN:VEVENT
DTSTAMP:20210122T065705Z
UID:59bfbea4-7b45-4780-9e1e-9193a81aefcd
DTSTART;VALUE=DATE:20210203
DESCRIPTION:Property ID# 498319\, Time: 4:00PM
SUMMARY:Auction for 129A - 137 Colwill Road
END:VEVENT
END:VCALENDAR
