BEGIN:VCALENDAR
VERSION:2.0
PRODID:icalendar-ruby
CALSCALE:GREGORIAN
BEGIN:VEVENT
DTSTAMP:20210122T065708Z
UID:5b189fd1-1059-4542-88ad-74e1c1043d18
DTSTART;TZID=Pacific/Auckland:20210124T110000
DTEND;TZID=Pacific/Auckland:20210124T113000
DESCRIPTION:Property ID# 490949
SUMMARY:Openhome for G07/57 Mapou Road
END:VEVENT
END:VCALENDAR
