BEGIN:VCALENDAR
VERSION:2.0
PRODID:icalendar-ruby
CALSCALE:GREGORIAN
BEGIN:VEVENT
DTSTAMP:20210122T065633Z
UID:a6e89da7-f4d9-4c24-86da-0d51eef85252
DTSTART;TZID=Pacific/Auckland:20210124T130000
DTEND;TZID=Pacific/Auckland:20210124T134500
DESCRIPTION:Property ID# 497731
SUMMARY:Openhome for 279 Mangatawhiri Road
END:VEVENT
END:VCALENDAR
