BEGIN:VCALENDAR
VERSION:2.0
PRODID:icalendar-ruby
CALSCALE:GREGORIAN
BEGIN:VEVENT
DTSTAMP:20210122T064518Z
UID:2eb99c38-f852-497b-879c-e8ff04b4ae3c
DTSTART;TZID=Pacific/Auckland:20210123T120000
DTEND;TZID=Pacific/Auckland:20210123T124500
DESCRIPTION:Property ID# 500050
SUMMARY:Openhome for 6 Shearwater Lane
END:VEVENT
END:VCALENDAR
