BEGIN:VCALENDAR
VERSION:2.0
PRODID:icalendar-ruby
CALSCALE:GREGORIAN
BEGIN:VEVENT
DTSTAMP:20210122T065709Z
UID:9b773147-17b8-422e-85e1-2000d8540cb5
DTSTART;TZID=Pacific/Auckland:20210124T150000
DTEND;TZID=Pacific/Auckland:20210124T153000
DESCRIPTION:Property ID# 479224
SUMMARY:Openhome for 7 Kaipara Lake Road
END:VEVENT
END:VCALENDAR
